BEGIN:VCALENDAR
VERSION:2.0
PRODID:-//ChamberMaster//Event Calendar 2.0//EN
METHOD:PUBLISH
X-PUBLISHED-TTL:P1H
REFRESH-INTERVAL:P1H
CALSCALE:GREGORIAN
BEGIN:VTIMEZONE
TZID:America/Denver
BEGIN:DAYLIGHT
RRULE:FREQ=YEARLY;BYMONTH=3;BYDAY=2SU
DTSTART:20070101T000000
TZOFFSETFROM:-0700
TZOFFSETTO:-0600
TZNAME:Mountain Daylight Time
END:DAYLIGHT
BEGIN:STANDARD
RRULE:FREQ=YEARLY;BYMONTH=11;BYDAY=1SU
DTSTART:20070101T000000
TZOFFSETFROM:-0600
TZOFFSETTO:-0700
TZNAME:Mountain Standard Time
END:STANDARD
END:VTIMEZONE
BEGIN:VEVENT
DTSTART;TZID=America/Denver:20260513T113000
DTEND;TZID=America/Denver:20260513T130000
X-MICROSOFT-CDO-ALLDAYEVENT:FALSE
SUMMARY:May Lunch & Learn
DESCRIPTION:Presentation Title: AI Business Transformation - How to Leverage Pro-Human AI for Your BusinessIn this presentation\, we'll explore practical ways AI can improve key areas of your business. The focus is on simple\, immediately usable tools that deliver quick wins and reveal what AI can unlock. As the saying goes\, you won't be replaced by AI but you may be replaced by someone who knows how to use it!\nBio:Kaden leads an AI team at Campbell Scientific in Logan\, Utah\, where for the past two years he's focused on deploying practical\, production-ready AI systems. His work centers on projects like automated workflows\, content creation\, and customer support\, and has already resulted in 25\,000 hours of time saved each year through smarter operations.Outside of that role\, Kaden runs his own business\, Campbell AI\, where he helps business owners cut through the AI noise and put real\, working solutions into their businesses.\n\nAbout Campbell AICampbell AI helps bridge the gap between AI hype and real results. We help businesses cut the manual\, repetitive work out of their operation by building custom AI tools that actually fit how they run. We're a dedicated partner who learns your business\, builds the automations\, trains your staff\, and keeps AI running and improving every month. While your competitors are still figuring out what AI is\, you're already running on it.
X-ALT-DESC;FMTTYPE=text/html:<!DOCTYPE html><html><head><title></title></head><body aria-disabled="false"><p style='margin: 0px\; font-style: normal\; font-variant-caps: normal\; font-stretch: normal\; font-size: 13px\; line-height: normal\; font-family: "Helvetica Neue"\; font-size-adjust: none\; font-kerning: auto\; font-variant-alternates: normal\; font-variant-ligatures: normal\; font-variant-numeric: normal\; font-variant-east-asian: normal\; font-variant-position: normal\; font-feature-settings: normal\; font-optical-sizing: auto\; font-variation-settings: normal\;'><strong fr-original-style="" style="font-weight: 700\;">Presentation Title: AI Business Transformation - How to Leverage Pro-Human AI for Your Business</strong></p><p style='margin: 0px\; font-style: normal\; font-variant-caps: normal\; font-stretch: normal\; font-size: 13px\; line-height: normal\; font-family: "Helvetica Neue"\; font-size-adjust: none\; font-kerning: auto\; font-variant-alternates: normal\; font-variant-ligatures: normal\; font-variant-numeric: normal\; font-variant-east-asian: normal\; font-variant-position: normal\; font-feature-settings: normal\; font-optical-sizing: auto\; font-variation-settings: normal\;'>In this presentation\, we&rsquo\;ll explore practical ways AI can improve key areas of your business. The focus is on simple\, immediately usable tools that deliver quick wins and reveal what AI can unlock. As the saying goes\, you won&rsquo\;t be replaced by AI&mdash\;but you may be replaced by someone who knows how to use it!</p><p style='margin: 0px\; font-style: normal\; font-variant-caps: normal\; font-stretch: normal\; font-size: 13px\; line-height: normal\; font-family: "Helvetica Neue"\; font-size-adjust: none\; font-kerning: auto\; font-variant-alternates: normal\; font-variant-ligatures: normal\; font-variant-numeric: normal\; font-variant-east-asian: normal\; font-variant-position: normal\; font-feature-settings: normal\; font-optical-sizing: auto\; font-variation-settings: normal\; min-height: 15px\;'><br></p><p style='margin: 0px\; font-style: normal\; font-variant-caps: normal\; font-stretch: normal\; font-size: 13px\; line-height: normal\; font-family: "Helvetica Neue"\; font-size-adjust: none\; font-kerning: auto\; font-variant-alternates: normal\; font-variant-ligatures: normal\; font-variant-numeric: normal\; font-variant-east-asian: normal\; font-variant-position: normal\; font-feature-settings: normal\; font-optical-sizing: auto\; font-variation-settings: normal\;'><strong fr-original-style="" style="font-weight: 700\;">Bio:</strong></p><p style='margin: 0px\; font-style: normal\; font-variant-caps: normal\; font-stretch: normal\; font-size: 13px\; line-height: normal\; font-family: "Helvetica Neue"\; font-size-adjust: none\; font-kerning: auto\; font-variant-alternates: normal\; font-variant-ligatures: normal\; font-variant-numeric: normal\; font-variant-east-asian: normal\; font-variant-position: normal\; font-feature-settings: normal\; font-optical-sizing: auto\; font-variation-settings: normal\;'>Kaden leads an AI team at Campbell Scientific in Logan\, Utah\, where for the past two years he&#39\;s focused on deploying practical\, production-ready AI systems. His work centers on projects like automated workflows\, content creation\, and customer support\, and has already resulted in 25\,000 hours&nbsp\;of time saved each year through smarter operations.</p><p style='margin: 0px\; font-style: normal\; font-variant-caps: normal\; font-stretch: normal\; font-size: 13px\; line-height: normal\; font-family: "Helvetica Neue"\; font-size-adjust: none\; font-kerning: auto\; font-variant-alternates: normal\; font-variant-ligatures: normal\; font-variant-numeric: normal\; font-variant-east-asian: normal\; font-variant-position: normal\; font-feature-settings: normal\; font-optical-sizing: auto\; font-variation-settings: normal\;'>Outside of that role\, Kaden&nbsp\;runs his own business\, Campbell AI\, where he helps business owners cut through the AI noise and put real\, working solutions into their businesses.<br><br><strong fr-original-style="" style="font-weight: 700\;">About Campbell AI</strong></p><p style='margin: 0px\; font-style: normal\; font-variant-caps: normal\; font-stretch: normal\; font-size: 13px\; line-height: normal\; font-family: "Helvetica Neue"\; font-size-adjust: none\; font-kerning: auto\; font-variant-alternates: normal\; font-variant-ligatures: normal\; font-variant-numeric: normal\; font-variant-east-asian: normal\; font-variant-position: normal\; font-feature-settings: normal\; font-optical-sizing: auto\; font-variation-settings: normal\;'>Campbell AI helps bridge the gap between AI hype and real results. We help businesses cut the manual\, repetitive work out of their operation by building custom AI tools that actually fit how they run. We&#39\;re a dedicated partner who learns your business\, builds the automations\, trains your staff\, and keeps AI running and improving every month. While your competitors are still figuring out what AI is\, you&#39\;re already running on it.&nbsp\;</p></body></html>
LOCATION:536 N 550 E Morgan UT 84050
UID:e.3802.1446661
SEQUENCE:3
DTSTAMP:20260422T002257Z
URL:https://morganutahchamber.growthzoneapp.com/chamber-calendar/Details/may-lunch-learn-1713435?sourceTypeId=Hub
END:VEVENT
END:VCALENDAR
