BEGIN:VCALENDAR
VERSION:2.0
PRODID:-//ChamberMaster//Event Calendar 2.0//EN
METHOD:PUBLISH
X-PUBLISHED-TTL:P1H
REFRESH-INTERVAL:P1H
CALSCALE:GREGORIAN
BEGIN:VTIMEZONE
TZID:America/Denver
BEGIN:DAYLIGHT
RRULE:FREQ=YEARLY;BYMONTH=3;BYDAY=2SU
DTSTART:20070101T000000
TZOFFSETFROM:-0700
TZOFFSETTO:-0600
TZNAME:Mountain Daylight Time
END:DAYLIGHT
BEGIN:STANDARD
RRULE:FREQ=YEARLY;BYMONTH=11;BYDAY=1SU
DTSTART:20070101T000000
TZOFFSETFROM:-0600
TZOFFSETTO:-0700
TZNAME:Mountain Standard Time
END:STANDARD
END:VTIMEZONE
BEGIN:VEVENT
DTSTART;VALUE=DATE:20260619
DTEND;VALUE=DATE:20260620
TRANSP:TRANSPARENT
X-MICROSOFT-CDO-ALLDAYEVENT:TRUE
SUMMARY:2026 Annual Golf Tournament by Morgan Chamber
DESCRIPTION:The Annual Morgan Chamber Golf Tournament is back and better than ever!Join us for a fun-filled day on the greens at Round Valley Golf Course!Date: Friday\, June 19\, 2026 Location: Round Valley Golf Course\, 1875 Round Valley Rd\, Morgan\, UT Schedule:8:00 AM   Arrive for complimentary breakfast and registration8:15 AM   Check-in9:00 AM   Shotgun start (tee off!)Format:4-person teamsOne team per holeShotgun start for a full day of golf and gamesEntry Fee: $480 per team (4 players)What's Included:Complimentary breakfastLunch providedPlenty of SWAG for participantsGolf-themed games and activities at each hole (with fun prizes from our generous hole sponsors!)Prizes for 1st\, 2nd\, and 3rd place teamsHighest score "fun" prizeGather your friends\, colleagues\, or family and form your team today this is a great way to network\, compete\, and have a blast!Extra Fun During Check-in/Registration: Boost your chances and add some excitement!Raffle Tickets   Purchase more for the prize drawings! $5 each or 5 for $20Scoring Helpers (Licorice Ropes Cheats)   Each team can buy up to 4 (1 per member max). Use these fun "cheats" on the course for example\, if you're short on a putt\, cut or eat a portion of the licorice rope to cover the remaining distance instead of putting! Licorice Ropes: $10 eachBecome a Hole Sponsor! Support the Morgan Utah Chamber and get great visibility for your business.$100 per holeSponsors are encouraged to set up a fun golf-themed game or activity at your assigned holeBring your own SWAG to hand out!For sponsorships\, registration\, or any questions\, contact us at: 📧 info@morganutahchamber.org 📞 801-829-1269Don't miss out spots fill up fast! See you on the course! 🏌️ ♂️⛳
X-ALT-DESC;FMTTYPE=text/html:<!DOCTYPE html><html><head><title></title></head><body aria-disabled="false"><p><meta charset="utf-8"></p><p><meta charset="utf-8"></p><p dir="auto" style="white-space: pre-wrap\;">The <strong fr-original-style="" style="font-weight: 700\;">Annual Morgan Chamber Golf Tournament</strong> is back and better than ever!</p><p dir="auto" style="white-space: pre-wrap\;">Join us for a fun-filled day on the greens at Round Valley Golf Course!</p><p dir="auto" style="white-space: pre-wrap\;"><strong fr-original-style="" style="font-weight: 700\;">Date:</strong> Friday\, June 19\, 2026&nbsp\;</p><p dir="auto" style="white-space: pre-wrap\;"><strong fr-original-style="" style="font-weight: 700\;">Location:</strong> Round Valley Golf Course\, 1875 Round Valley Rd\, Morgan\, UT&nbsp\;</p><p dir="auto" style="white-space: pre-wrap\;"><strong fr-original-style="" style="font-weight: 700\;">Schedule:</strong></p><ul dir="auto" fr-original-style="" style="list-style-position: inside\;"><li><strong fr-original-style="" style="font-weight: 700\;">8:00 AM</strong> &mdash\; Arrive for complimentary breakfast and registration</li><li><strong fr-original-style="" style="font-weight: 700\;">8:15 AM</strong> &mdash\; Check-in</li><li><strong fr-original-style="" style="font-weight: 700\;">9:00 AM</strong> &mdash\; Shotgun start (tee off!)</li></ul><p dir="auto" style="white-space: pre-wrap\;"><strong fr-original-style="" style="font-weight: 700\;">Format:</strong></p><ul dir="auto" fr-original-style="" style="list-style-position: inside\;"><li>4-person teams</li><li>One team per hole</li><li>Shotgun start for a full day of golf and games</li></ul><p dir="auto" style="white-space: pre-wrap\;"><strong fr-original-style="" style="font-weight: 700\;">Entry Fee:</strong>&nbsp\;$480 per team (4 players)</p><p dir="auto" style="white-space: pre-wrap\;"><strong fr-original-style="" style="font-weight: 700\;">What&#39\;s Included:</strong></p><ul dir="auto" fr-original-style="" style="list-style-position: inside\;"><li>Complimentary breakfast</li><li>Lunch provided</li><li>Plenty of SWAG for participants</li><li>Golf-themed games and activities at each hole (with fun prizes from our generous hole sponsors!)</li><li>Prizes for 1st\, 2nd\, and 3rd place teams</li><li>Highest score &quot\;fun&quot\; prize</li></ul><p dir="auto" style="white-space: pre-wrap\;">Gather your friends\, colleagues\, or family and form your team today&mdash\;this is a great way to network\, compete\, and have a blast!</p><p dir="auto" style="white-space: pre-wrap\;"><strong fr-original-style="" style="font-weight: 700\;">Extra Fun During Check-in/Registration:</strong> Boost your chances and add some excitement!</p><ul dir="auto" fr-original-style="" style="list-style-position: inside\;"><li><strong fr-original-style="" style="font-weight: 700\;">Raffle Tickets</strong> &mdash\; Purchase more for the prize drawings! $5 each or 5 for $20</li><li><strong fr-original-style="" style="font-weight: 700\;">Scoring Helpers (Licorice Ropes Cheats)</strong> &mdash\; Each team can buy up to 4 (1 per member max). Use these fun &quot\;cheats&quot\; on the course&mdash\;for example\, if you&#39\;re short on a putt\, cut or eat a portion of the licorice rope to cover the remaining distance instead of putting! <strong fr-original-style="" style="font-weight: 700\;">Licorice Ropes:</strong>&nbsp\;$10 each</li></ul><p><meta charset="utf-8"></p><p dir="auto" style="white-space: pre-wrap\;"><strong fr-original-style="" style="font-weight: 700\;">Become a Hole Sponsor!</strong> Support the Morgan Utah Chamber and get great visibility for your business.</p><ul dir="auto" fr-original-style="" style="list-style-position: inside\;"><li><strong fr-original-style="" style="font-weight: 700\;">$100 per hole</strong></li><li>Sponsors are encouraged to set up a fun golf-themed game or activity at your assigned hole</li><li>Bring your own SWAG to hand out!</li></ul><p dir="auto" style="white-space: pre-wrap\;">For sponsorships\, registration\, or any questions\, contact us at: 📧 <a fr-original-style="" href="mailto:info@morganutahchamber.org" rel="noopener noreferrer nofollow" style="user-select: auto\;" target="_blank">info@morganutahchamber.org</a> 📞 801-829-1269</p><p dir="auto" style="white-space: pre-wrap\;">Don&#39\;t miss out&mdash\;spots fill up fast! See you on the course! 🏌️&zwj\;♂️⛳</p><p><br></p></body></html>
LOCATION:1875 Round Valley Rd Morgan 84050
UID:e.3802.1405894
SEQUENCE:3
DTSTAMP:20260422T002536Z
URL:https://morganutahchamber.growthzoneapp.com/chamber-calendar/Details/2026-annual-golf-tournament-by-morgan-chamber-1661650?sourceTypeId=Hub
END:VEVENT
END:VCALENDAR
