BEGIN:VCALENDAR
VERSION:2.0
PRODID:-//ChamberMaster//Event Calendar 2.0//EN
METHOD:PUBLISH
X-PUBLISHED-TTL:P1H
REFRESH-INTERVAL:P1H
CALSCALE:GREGORIAN
BEGIN:VTIMEZONE
TZID:America/Denver
BEGIN:DAYLIGHT
RRULE:FREQ=YEARLY;BYMONTH=3;BYDAY=2SU
DTSTART:20070101T000000
TZOFFSETFROM:-0700
TZOFFSETTO:-0600
TZNAME:Mountain Daylight Time
END:DAYLIGHT
BEGIN:STANDARD
RRULE:FREQ=YEARLY;BYMONTH=11;BYDAY=1SU
DTSTART:20070101T000000
TZOFFSETFROM:-0600
TZOFFSETTO:-0700
TZNAME:Mountain Standard Time
END:STANDARD
END:VTIMEZONE
BEGIN:VEVENT
DTSTART;TZID=America/Denver:20260404T123000
DTEND;TZID=America/Denver:20260404T140000
X-MICROSOFT-CDO-ALLDAYEVENT:FALSE
SUMMARY:Community Easter Egg Hunt with Drage Second Chance Ranch
DESCRIPTION:Join us at this annual Easter Egg Hunt and have some eggscelent family fun! Free admission. All are welcome!  ~ Brought to you by Drage Second Chance Ranch
X-ALT-DESC;FMTTYPE=text/html:Join us at this annual Easter Egg Hunt and have some eggscelent family fun! Free admission. All are welcome!  ~ Brought to you by Drage Second Chance Ranch
LOCATION:5859 N Cottonwood Canyon Rd Morgan UT 84050
UID:e.3802.1430224
SEQUENCE:3
DTSTAMP:20260422T002406Z
URL:https://morganutahchamber.growthzoneapp.com/chamber-calendar/Details/community-easter-egg-hunt-with-drage-second-chance-ranch-1692337?sourceTypeId=Hub
END:VEVENT
END:VCALENDAR
