BEGIN:VCALENDAR
VERSION:2.0
PRODID:-//ChamberMaster//Event Calendar 2.0//EN
METHOD:PUBLISH
X-PUBLISHED-TTL:P1H
REFRESH-INTERVAL:P1H
CALSCALE:GREGORIAN
BEGIN:VTIMEZONE
TZID:America/Denver
BEGIN:DAYLIGHT
RRULE:FREQ=YEARLY;BYMONTH=3;BYDAY=2SU
DTSTART:20070101T000000
TZOFFSETFROM:-0700
TZOFFSETTO:-0600
TZNAME:Mountain Daylight Time
END:DAYLIGHT
BEGIN:STANDARD
RRULE:FREQ=YEARLY;BYMONTH=11;BYDAY=1SU
DTSTART:20070101T000000
TZOFFSETFROM:-0600
TZOFFSETTO:-0700
TZNAME:Mountain Standard Time
END:STANDARD
END:VTIMEZONE
BEGIN:VEVENT
DTSTART;TZID=America/Denver:20260408T110000
DTEND;TZID=America/Denver:20260408T130000
X-MICROSOFT-CDO-ALLDAYEVENT:FALSE
SUMMARY:April Lunch and Learn
DESCRIPTION:Morgan Chamber of Commerce Networking LunchHosted by: Morgan Chamber of Commerce\nDate: Wednesday\, April 8th\, 2026\nTime: 11:30 AM   1:00 PM\nLocation: Young Dodge Conference Room\n536 N. 500 E.\nMorgan\, UT 84050Who Should AttendBusiness ownersEntrepreneursProfessionals looking to network and growEvent HighlightsJoin us for an engaging networking lunch with local business owners\, entrepreneurs\, and industry experts.\nEnjoy valuable connections\, insightful discussions\, and a complimentary lunch (for members).Chamber Members: Free lunch providedNon-Members: $10 per person
X-ALT-DESC;FMTTYPE=text/html:<!DOCTYPE html><html><head><title></title></head><body aria-disabled="false"><p><meta charset="utf-8"></p><h3 style="display: block\; margin: 0px\; padding: 0px\; color: rgb(32\, 32\, 32)\; font-family: Helvetica\; font-size: 20px\; font-style: normal\; font-weight: bold\; line-height: 25px\; letter-spacing: normal\; text-align: left\; font-variant-ligatures: normal\; font-variant-caps: normal\; orphans: 2\; text-indent: 0px\; text-transform: none\; widows: 2\; word-spacing: 0px\; -webkit-text-stroke-width: 0px\; white-space: normal\; background-color: rgb(255\, 255\, 255)\; text-decoration-thickness: initial\; text-decoration-style: initial\; text-decoration-color: initial\;">Morgan&nbsp\;Chamber&nbsp\;of Commerce Networking&nbsp\;Lunch</h3><p style="margin: 10px 0px\; padding: 0px\; color: rgb(32\, 32\, 32)\; font-family: Helvetica\; font-size: 16px\; line-height: 24px\; text-align: left\; font-style: normal\; font-variant-ligatures: normal\; font-variant-caps: normal\; font-weight: 400\; letter-spacing: normal\; orphans: 2\; text-indent: 0px\; text-transform: none\; widows: 2\; word-spacing: 0px\; -webkit-text-stroke-width: 0px\; white-space: normal\; background-color: rgb(255\, 255\, 255)\; text-decoration-thickness: initial\; text-decoration-style: initial\; text-decoration-color: initial\;">Hosted by: Morgan&nbsp\;Chamber&nbsp\;of Commerce<br>Date: Wednesday\, April 8th\, 2026<br>Time: 11:30 AM &ndash\; 1:00 PM<br>Location: Young Dodge Conference Room<br>536 N. 500 E.<br>Morgan\, UT 84050</p><h3 style="display: block\; margin: 0px\; padding: 0px\; color: rgb(32\, 32\, 32)\; font-family: Helvetica\; font-size: 20px\; font-style: normal\; font-weight: bold\; line-height: 25px\; letter-spacing: normal\; text-align: left\; font-variant-ligatures: normal\; font-variant-caps: normal\; orphans: 2\; text-indent: 0px\; text-transform: none\; widows: 2\; word-spacing: 0px\; -webkit-text-stroke-width: 0px\; white-space: normal\; background-color: rgb(255\, 255\, 255)\; text-decoration-thickness: initial\; text-decoration-style: initial\; text-decoration-color: initial\;">Who Should Attend</h3><ul fr-original-style="color: rgb(32\, 32\, 32)\; font-family: Helvetica\; font-size: 16px\; font-style: normal\; font-variant-ligatures: normal\; font-variant-caps: normal\; font-weight: 400\; letter-spacing: normal\; orphans: 2\; text-align: left\; text-indent: 0px\; text-transform: none\; widows: 2\; word-spacing: 0px\; -webkit-text-stroke-width: 0px\; white-space: normal\; background-color: rgb(255\, 255\, 255)\; text-decoration-thickness: initial\; text-decoration-style: initial\; text-decoration-color: initial\;" style="color: rgb(32\, 32\, 32)\; font-family: Helvetica\; font-size: 16px\; font-style: normal\; font-variant-ligatures: normal\; font-variant-caps: normal\; font-weight: 400\; letter-spacing: normal\; orphans: 2\; text-align: left\; text-indent: 0px\; text-transform: none\; widows: 2\; word-spacing: 0px\; -webkit-text-stroke-width: 0px\; white-space: normal\; background-color: rgb(255\, 255\, 255)\; text-decoration-thickness: initial\; text-decoration-style: initial\; text-decoration-color: initial\; list-style-position: inside\;"><li style="margin-left: 15px\;">Business owners</li><li style="margin-left: 15px\;">Entrepreneurs</li><li style="margin-left: 15px\;">Professionals looking to network and grow</li></ul><h3 style="display: block\; margin: 0px\; padding: 0px\; color: rgb(32\, 32\, 32)\; font-family: Helvetica\; font-size: 20px\; font-style: normal\; font-weight: bold\; line-height: 25px\; letter-spacing: normal\; text-align: left\; font-variant-ligatures: normal\; font-variant-caps: normal\; orphans: 2\; text-indent: 0px\; text-transform: none\; widows: 2\; word-spacing: 0px\; -webkit-text-stroke-width: 0px\; white-space: normal\; background-color: rgb(255\, 255\, 255)\; text-decoration-thickness: initial\; text-decoration-style: initial\; text-decoration-color: initial\;">Event Highlights</h3><p style="margin: 10px 0px\; padding: 0px\; color: rgb(32\, 32\, 32)\; font-family: Helvetica\; font-size: 16px\; line-height: 24px\; text-align: left\; font-style: normal\; font-variant-ligatures: normal\; font-variant-caps: normal\; font-weight: 400\; letter-spacing: normal\; orphans: 2\; text-indent: 0px\; text-transform: none\; widows: 2\; word-spacing: 0px\; -webkit-text-stroke-width: 0px\; white-space: normal\; background-color: rgb(255\, 255\, 255)\; text-decoration-thickness: initial\; text-decoration-style: initial\; text-decoration-color: initial\;">Join us for an engaging networking&nbsp\;lunch&nbsp\;with local business owners\, entrepreneurs\, and industry experts.<br>Enjoy valuable connections\, insightful discussions\, and a complimentary&nbsp\;lunch&nbsp\;(for members).</p><ul fr-original-style="color: rgb(32\, 32\, 32)\; font-family: Helvetica\; font-size: 16px\; font-style: normal\; font-variant-ligatures: normal\; font-variant-caps: normal\; font-weight: 400\; letter-spacing: normal\; orphans: 2\; text-align: left\; text-indent: 0px\; text-transform: none\; widows: 2\; word-spacing: 0px\; -webkit-text-stroke-width: 0px\; white-space: normal\; background-color: rgb(255\, 255\, 255)\; text-decoration-thickness: initial\; text-decoration-style: initial\; text-decoration-color: initial\;" style="color: rgb(32\, 32\, 32)\; font-family: Helvetica\; font-size: 16px\; font-style: normal\; font-variant-ligatures: normal\; font-variant-caps: normal\; font-weight: 400\; letter-spacing: normal\; orphans: 2\; text-align: left\; text-indent: 0px\; text-transform: none\; widows: 2\; word-spacing: 0px\; -webkit-text-stroke-width: 0px\; white-space: normal\; background-color: rgb(255\, 255\, 255)\; text-decoration-thickness: initial\; text-decoration-style: initial\; text-decoration-color: initial\; list-style-position: inside\;"><li style="margin-left: 15px\;">Chamber Members: <em>Free&nbsp\;lunch&nbsp\;provided</em></li><li style="margin-left: 15px\;">Non-Members: <em>$10 per person</em></li></ul></body></html>
LOCATION:3265 S Hwy 66 Morgan UT 84050
UID:e.3802.1412479
SEQUENCE:3
DTSTAMP:20260422T002413Z
URL:https://morganutahchamber.growthzoneapp.com/chamber-calendar/Details/april-lunch-and-learn-1669248?sourceTypeId=Hub
END:VEVENT
END:VCALENDAR
